BEGIN:VCALENDAR
VERSION:2.0
PRODID:-// eRoom plugin //NONSGML v1.0//EN
CALSCALE:GREGORIAN
BEGIN:VEVENT
UID:eRoom-1776701346
SUMMARY:ETN 24 &#8211; Clase 5
LOCATION:Zoom
DESCRIPTION:ETN 24 &#8211\; Clase 5 is inviting you to a scheduled Zoom mee
 ting.\n\nJoin Zoom Meeting\nhttps://us02web.zoom.us/j/84567360481?pwd=8GYc
 wOp9p7gDyJjqDTlOhiPaXYOW6t.1\n\nMeeting ID: 84567360481\nPasscode: apletn2
 4\n
URL;VALUE=URI:https://us02web.zoom.us/j/84567360481?pwd=8GYcwOp9p7gDyJjqDTlOhiPaXYOW6t.1
DTSTART:20240720T113000Z
DTEND:20240720T153000Z
DTSTAMP:20260420T160906Z
BEGIN:VALARM
ACTION:DISPLAY
DESCRIPTION:Reminder
TRIGGER;RELATED=START:-PT15M
END:VALARM
END:VEVENT
END:VCALENDAR